BEGIN:VCALENDAR
VERSION:2.0
PRODID:-//ChamberMaster//Event Calendar 2.0//EN
METHOD:PUBLISH
X-PUBLISHED-TTL:P3D
REFRESH-INTERVAL:P3D
CALSCALE:GREGORIAN
BEGIN:VEVENT
DTSTART:20110429T140000Z
DTEND:20110429T220000Z
X-MICROSOFT-CDO-ALLDAYEVENT:FALSE
SUMMARY:2010 Main Event Business SBA Test Event for Elavon
DESCRIPTION:Call the chamber after 3-10-11 for possible space
X-ALT-DESC;FMTTYPE=text/html:Call the chamber after 3-10-11 for possible space
LOCATION:Lauderdale County Agri-Center
UID:e.9064.15
SEQUENCE:3
DTSTAMP:20260419T185843Z
URL:http://embdc.memberzone.com/events/details/2010-main-event-business-sba-test-event-for-elavon-04-29-2011-15
END:VEVENT

END:VCALENDAR
