BEGIN:VCALENDAR
VERSION:2.0
PRODID:-//ChamberMaster//Event Calendar 2.0//EN
METHOD:PUBLISH
X-PUBLISHED-TTL:P3D
REFRESH-INTERVAL:P3D
CALSCALE:GREGORIAN
BEGIN:VEVENT
DTSTART:20101001T163000Z
DTEND:20101001T183000Z
X-MICROSOFT-CDO-ALLDAYEVENT:FALSE
SUMMARY:2010 EMBDC 14th Annual Meeting
DESCRIPTION:
X-ALT-DESC;FMTTYPE=text/html:
LOCATION:Kahlmus Auditorium - MSU Meridian
UID:e.9064.7
SEQUENCE:3
DTSTAMP:20260420T062226Z
URL:http://embdc.memberzone.com/events/details/2010-embdc-14th-annual-meeting-10-01-2010-7
END:VEVENT

END:VCALENDAR
