BEGIN:VCALENDAR
VERSION:2.0
PRODID:-//ChamberMaster//Event Calendar 2.0//EN
METHOD:PUBLISH
X-PUBLISHED-TTL:P3D
REFRESH-INTERVAL:P3D
CALSCALE:GREGORIAN
BEGIN:VEVENT
DTSTART:20080628T010000Z
DTEND:20080628T040000Z
X-MICROSOFT-CDO-ALLDAYEVENT:FALSE
SUMMARY:2008 A Night on Broadway
DESCRIPTION:
X-ALT-DESC;FMTTYPE=text/html:
LOCATION:MSU Riley Center
UID:e.9064.18
SEQUENCE:3
DTSTAMP:20260424T063634Z
URL:http://embdc.memberzone.com/events/details/2008-a-night-on-broadway-06-27-2008-18
END:VEVENT

END:VCALENDAR
